BEGIN:VCALENDAR
VERSION:2.0
PRODID:-//Plone.org//NONSGML plone.app.event//EN
X-WR-TIMEZONE:Europe/Berlin
BEGIN:VEVENT
SUMMARY:Understanding Needs to Set Healthy Boundaries
DTSTART;TZID=Europe/Berlin:20251202T130000
DTEND;TZID=Europe/Berlin:20251202T170000
DTSTAMP:20260422T191008Z
UID:f7c1742d82e34211ab55c9627170bc87@www.gleichstellung.uni-bonn.de
CREATED:20250825T121532Z
DESCRIPTION:Navigating the emotional ups and downs of an academic journey 
 can be challenging\, especially when it comes to managing\nexpectations\, 
 saying no\, or protecting your time and energy. This workshop is here to h
 elp.\nSetting and maintaining healthy boundaries is a vital part of protec
 ting your mental health during demanding research processes.\nBy tuning in
 to your emotional signals\, you can build resilience\, reduce burnout\, an
 d create space for balance and\nwell-being.
LAST-MODIFIED:20251117T132754Z
URL:https://www.gleichstellung.uni-bonn.de/de/equalendar/events-all/weiter
 e/understanding-needs-to-set-healthy-boundaries
END:VEVENT
BEGIN:VTIMEZONE
TZID:Europe/Berlin
X-LIC-LOCATION:Europe/Berlin
BEGIN:STANDARD
DTSTART:20251026T020000
TZNAME:CET
TZOFFSETFROM:+0200
TZOFFSETTO:+0100
END:STANDARD
END:VTIMEZONE
END:VCALENDAR
