BEGIN:VCALENDAR
VERSION:2.0
PRODID:-//Plone.org//NONSGML plone.app.event//EN
X-WR-TIMEZONE:Europe/Berlin
BEGIN:VEVENT
SUMMARY:Selbstsicherheitstraining
DTSTART;TZID=Europe/Berlin:20251117T100000
DTEND;TZID=Europe/Berlin:20251118T140000
DTSTAMP:20260422T033228Z
UID:47752693d69148838da25117569a86a5@www.gleichstellung.uni-bonn.de
CREATED:20250929T145153Z
DESCRIPTION:Wer sich gut behaupten kann\, wird sich auch im beruflichen Al
 ltag besser positionieren\; dadurch entsteht mehr Freiheit für selbstbest
 immtes Handeln. Leider kommt es\, auch im akademischen Raum\, immer wieder
  zu Situationen\, in denen Frauen diskriminiert\, übergangen\, zurückged
 rängt\, belästigt oder gar verfolgt werden: sei es im Arbeitsteam\, auf 
 dem Weg zur Arbeit oder bei Veranstaltungen und auf Dienstreisen. Die Konf
 rontation mit diesem Verhalten anderer lässt oftmals ein Gefühl der Unte
 rlegenheit oder Hilflosigkeit entstehen. In solchen Situationen ist es wic
 htig\, sich rechtzeitig und souverän sowohl sprachlich als auch körperli
 ch klar abzugrenzen und behaupten zu können.\n\n\nMontag\, 17. November\,
 10:00 - 16:30 Uhr & 18. November 2025\, 08:30 - 14:00 Uhr
LAST-MODIFIED:20251007T132702Z
URL:https://www.gleichstellung.uni-bonn.de/de/equalendar/events-all/weiter
 e/copy_of_selbstsicherheitstraining
END:VEVENT
BEGIN:VTIMEZONE
TZID:Europe/Berlin
X-LIC-LOCATION:Europe/Berlin
BEGIN:STANDARD
DTSTART:20251026T020000
TZNAME:CET
TZOFFSETFROM:+0200
TZOFFSETTO:+0100
END:STANDARD
END:VTIMEZONE
END:VCALENDAR
