BEGIN:VCALENDAR
VERSION:2.0
PRODID:-//Plone.org//NONSGML plone.app.event//EN
X-WR-TIMEZONE:Europe/Berlin
BEGIN:VEVENT
SUMMARY:Equity in math - an event for men
DTSTART;TZID=Europe/Berlin:20251117T161500
DTEND;TZID=Europe/Berlin:20251117T180000
DTSTAMP:20260422T215135Z
UID:909daf8ecd374c2fb8972b9d2366395e@www.gleichstellung.uni-bonn.de
CREATED:20251110T124635Z
DESCRIPTION:This event will focus on male perspectives on topics such as m
 ental health\, gender equality\, the atmosphere in Bonn\, and balancing ca
 reer and family life. But we also want to consider why genuine efforts tow
 ards discussing male issues are often overshadowed by misogyny and gender 
 divisiveness and how we can ensure that we work together instead of agains
 t each other. The first part of the event will be a talk by Tamar Grosz\, 
 a researcher in gender equality in Physics\, who will provide us with data
  about the current state of gender equality in Germany\, with a focus on a
 cademia. For the second part\, we have invited Prof. Vygen\, Dr. Assing\, 
 Dr. Rothgang\, Dr. Schubert and Julius Mann to participate in a panel disc
 ussion on the topics mentioned above. Afterwards\, we invite you to stick 
 around to chat with other attendees over soft drinks and free cookies. Whi
 le the event is especially aimed at male participants\, everyone intereste
 d is\, of course\, very welcome to join. \n\n#barrierfree
LAST-MODIFIED:20251110T152838Z
URL:https://www.gleichstellung.uni-bonn.de/de/equalendar/events-all/mathna
 t/equity-in-math-an-event-for-men
END:VEVENT
BEGIN:VTIMEZONE
TZID:Europe/Berlin
X-LIC-LOCATION:Europe/Berlin
BEGIN:STANDARD
DTSTART:20251026T020000
TZNAME:CET
TZOFFSETFROM:+0200
TZOFFSETTO:+0100
END:STANDARD
END:VTIMEZONE
END:VCALENDAR
