BEGIN:VCALENDAR
VERSION:2.0
PRODID:-//Plone.org//NONSGML plone.app.event//EN
X-WR-TIMEZONE:Europe/Berlin
BEGIN:VEVENT
SUMMARY:Selbstsicherheitstraining
DTSTART;TZID=Europe/Berlin:20260518T100000
DTEND;TZID=Europe/Berlin:20260519T150000
DTSTAMP:20260424T053948Z
UID:8403f4982a1d4b288db84de8ecf2b99e@www.gleichstellung.uni-bonn.de
CREATED:20251201T135647Z
DESCRIPTION:Wer sich gut behaupten kann\, wird sich auch im beruflichen Al
 ltag besser positionieren\; dadurch entsteht mehr Freiheit für selbstbest
 immtes Handeln. Leider kommt es\, auch im akademischen Raum\, immer wieder
  zu Situationen\, in denen Frauen diskriminiert\, übergangen\, zurückged
 rängt\, belästigt oder gar verfolgt werden: sei es im Arbeitsteam\, auf 
 dem Weg zur Arbeit oder bei Veranstaltungen und auf Dienstreisen. Die Konf
 rontation mit diesem Verhalten anderer lässt oftmals ein Gefühl der Unte
 rlegenheit oder Hilflosigkeit entstehen. In solchen Situationen ist es wic
 htig\, sich rechtzeitig und souverän sowohl sprachlich als auch körperli
 ch klar abzugrenzen und behaupten zu können.\n\nMontag\, 18. Mai 2026: 10
 :00 - 16:30 Uhr \n& Dienstag\, 19. Mai 2026: 09:30 - 15:00 Uhr \n\nZielgru
 ppe: alle Mitarbeiterinnen und Studentinnen der Universität Bonn
LAST-MODIFIED:20251201T141217Z
URL:https://www.gleichstellung.uni-bonn.de/de/equalendar/events-all/gb/sel
 bstsicherheitstraining
END:VEVENT
BEGIN:VTIMEZONE
TZID:Europe/Berlin
X-LIC-LOCATION:Europe/Berlin
BEGIN:DAYLIGHT
DTSTART:20260329T030000
TZNAME:CEST
TZOFFSETFROM:+0100
TZOFFSETTO:+0200
END:DAYLIGHT
END:VTIMEZONE
END:VCALENDAR
